BEGIN:VCALENDAR
VERSION:2.0
PRODID:-//wp-events-plugin.com//7.2.3.1//EN
TZID:Europe/Prague
X-WR-TIMEZONE:Europe/Prague
BEGIN:VEVENT
UID:45@flyball.cz
DTSTART;TZID=Europe/Prague;VALUE=DATE:20220423
DTEND;TZID=Europe/Prague;VALUE=DATE:20220425
DTSTAMP:20211224T221547Z
URL:https://flyball.cz/akce/hanacke-skvarek-2022/
SUMMARY:Hanácké škvarek 2022
DESCRIPTION:Hanácké škvarek 2022 - propozice\n\nHanácké škvarek 2022 
 - přihláška
CATEGORIES:turnaj družstev
LOCATION:Happy Herolky – kynologický areál\, Heroltice 65\, Heroltice\,
  66601\, Česká republika
X-APPLE-STRUCTURED-LOCATION;VALUE=URI;X-ADDRESS=Heroltice 65\, Heroltice\, 
 66601\, Česká republika;X-APPLE-RADIUS=100;X-TITLE=Happy Herolky – kyn
 ologický areál:geo:0,0
END:VEVENT
BEGIN:VTIMEZONE
TZID:Europe/Prague
X-LIC-LOCATION:Europe/Prague
BEGIN:DAYLIGHT
DTSTART:20220327T030000
TZOFFSETFROM:+0100
TZOFFSETTO:+0200
TZNAME:CEST
END:DAYLIGHT
END:VTIMEZONE
END:VCALENDAR